BEGIN:VCALENDAR
VERSION:2.0
PRODID:-//ChamberMaster//Event Calendar 2.0//EN
METHOD:PUBLISH
X-PUBLISHED-TTL:P3D
REFRESH-INTERVAL:P3D
CALSCALE:GREGORIAN
BEGIN:VEVENT
DTSTART:20260617T233000Z
DTEND:20260618T020000Z
X-MICROSOFT-CDO-ALLDAYEVENT:FALSE
SUMMARY:HCC GMM: Infrastructure Update
DESCRIPTION:Become a Sponsor
X-ALT-DESC;FMTTYPE=text/html:<a class="sponsor-button" href="https://indd.adobe.com/view/d0165363-ffdf-4fe5-94f3-584493afeaff" style="font-size: 13px\; color: rgb(255\, 255\, 255) !important\; font-family: Montserrat\, sans-serif !important\; font-weight: 700 !important\; background-color: rgb(99\, 10\, 12) !important\; padding: 10px 20px !important\; border: none !important\; border-radius: 5px !important\; cursor: pointer !important\; text-transform: uppercase !important\; display: inline-block !important\; text-decoration-line: none !important\; margin-left: -10px !important\;" target="_blank">Become a Sponsor</a>
LOCATION:
UID:e.9325.5959
SEQUENCE:3
DTSTAMP:20260419T133755Z
URL:https://business.hcc-diversityleader.org/events/details/hcc-gmm-infrastructure-update-5959
END:VEVENT

END:VCALENDAR
